BEGIN:VCALENDAR
VERSION:2.0
PRODID:-//hacksw/handcal//NONSGML v1.0//EN
CALSCALE:GREGORIAN
X-WR-TIMEZONE:Europe/Vienna
BEGIN:VEVENT
DESCRIPTION:Bauernmarkt
DTSTART:20260420T000000
DTEND:20260420T235900
URL;VALUE=URI:https://www.europark.at/de/events/bauernmarkt/2026-04-20
SUMMARY:Bauernmarkt
LOCATION:Salzburg
DTSTAMP:20260422T084255
UID:69e88a0faacfd
END:VEVENT
END:VCALENDAR